BEGIN:VCALENDAR
VERSION:2.0
PRODID:-//Mundo Armonía - ECPv6.15.20//NONSGML v1.0//EN
CALSCALE:GREGORIAN
METHOD:PUBLISH
X-ORIGINAL-URL:https://mundoarmonia.es
X-WR-CALDESC:Eventos para Mundo Armonía
REFRESH-INTERVAL;VALUE=DURATION:PT1H
X-Robots-Tag:noindex
X-PUBLISHED-TTL:PT1H
BEGIN:VTIMEZONE
TZID:UTC
BEGIN:STANDARD
TZOFFSETFROM:+0000
TZOFFSETTO:+0000
TZNAME:UTC
DTSTART:20240101T000000
END:STANDARD
END:VTIMEZONE
BEGIN:VEVENT
DTSTART;TZID=UTC:20250523T183000
DTEND;TZID=UTC:20250523T210000
DTSTAMP:20260419T131400
CREATED:20250421T094743Z
LAST-MODIFIED:20250513T210404Z
UID:5309-1748025000-1748034000@mundoarmonia.es
SUMMARY:Taller de Liberación de Miedos
DESCRIPTION:Estimados amigos\, \n\nMundo Armonía tiene el placer de  ofrecerles: \n\nTaller de Liberación de Miedos\n¡Libérate de cualquier miedo limitante!\nEl miedo es la causa de muchas enfermedades o\, como dice el biólogo Bruce Lipton:\n«La química del miedo crónico es la causa del problema\, si cambias tu visión\, cambias la química y te empodera». \nEn este taller tienes la posibilidad de cambiar tu visión y\, en consecuencia\, la química. \nFecha:               Viernes 23 de mayo de 2025\nHora:                 De 18:30 a 21:00hrs\nDónde:              Sercotel Parque- Calle Muelle Las Palmas 2\, 3500\,\nLas Palmas de Gran Canaria\nCambio:            60€ \nJosé Antonio Manchado lleva más de 15 años ayudando a otros a liberar miedos como:\n… hablar en público \n… volar \n… al éxito \n…  al rechazo \n…  a las arañas \n…  a morir \n… a ser tú mismo \n… al abandono \n… etc \nMás Información o Inscripción:\nSi deseas liberarte de uno de estos (o otros) miedos entra AQUÍ.\nEncontrarás más información y puedes inscribirte.
URL:https://mundoarmonia.es/evento/taller-de-liberacion-de-miedos/
LOCATION:Sercotel Parque Las Palmas\, C. Mlle. Las Palmas\, 2\, Las Palmas de Gran Canaria\, Las Palmas\, 35003\, España
CATEGORIES:GRAN CANARIA,TALLERES
ATTACH;FMTTYPE=image/png:https://mundoarmonia.es/wp-content/uploads/2025/04/Liberacion-de-Miedos-1-scaled.png
ORGANIZER;CN="Mundo Armon%C3%ADa":MAILTO:info@academia-mundoarmonia.com
END:VEVENT
END:VCALENDAR