BEGIN:VCALENDAR
VERSION:2.0
PRODID:-//Mundo Armonía - ECPv6.15.20//NONSGML v1.0//EN
CALSCALE:GREGORIAN
METHOD:PUBLISH
X-WR-CALNAME:Mundo Armonía
X-ORIGINAL-URL:https://mundoarmonia.es
X-WR-CALDESC:Eventos para Mundo Armonía
REFRESH-INTERVAL;VALUE=DURATION:PT1H
X-Robots-Tag:noindex
X-PUBLISHED-TTL:PT1H
BEGIN:VTIMEZONE
TZID:UTC
BEGIN:STANDARD
TZOFFSETFROM:+0000
TZOFFSETTO:+0000
TZNAME:UTC
DTSTART:20240101T000000
END:STANDARD
END:VTIMEZONE
BEGIN:VEVENT
DTSTART;TZID=UTC:20250522T200000
DTEND;TZID=UTC:20250522T213000
DTSTAMP:20260419T142723
CREATED:20250405T193808Z
LAST-MODIFIED:20250430T120539Z
UID:5283-1747944000-1747949400@mundoarmonia.es
SUMMARY:Presentación de Rigpa Energetic Healing(Shindo) por Jose Antonio Manchado.
DESCRIPTION:Estimados Amigos\,\n\nDesde Mundo Armonía tenemos la alegría de invitarles a la  \n\n\npresentación y demostración de \nRigpa Energetic Healing\n(Shin-Do)por Jose Antonio Manchado\n  \nEsta invitación es para quienes estén interesados en descubrir este potente y revolucionario sistema energético Tibetano de sanación\, Rigpa Energetic Healing (Shin-do)En nuestra constante intención de construir pequeños puentes entre las herramientas ancestrales y el mundo moderno queremos compartir con ustedes este sistema de sanación Tibetano\n\n\n¿Cuándo y dónde?Fecha:         Jueves 22 de Mayo 2025Horario:    a las 20hrs a 21:30hrsLugar:        Sala Telmo en Sercotel Parque Las Palmas.                      C. Mlle. Las Palmas\, 2\, 35003 Las Palmas de Gran Canaria \n\n\nEvento Gratuito¿Quieres saber cómo volver a tu bien estar natural?Ven a la presentación donde Jose Antonio Manchado hablará  y demostrará cómo puedes aumentar la frecuencia víbracional a nivel Físico\, Mental y Energético. \nEl potente sistema Rigpa Energetic Healing (Shin-do)consiste en prácticas de sanación desarrolladas por monjes budistas Tibetanos. \n\nLiteralmente su traducción es: El camino de la sanación vibracional.Cada célula y cada órgano de nuestro cuerpo vibra a una frecuencia determinada. Cuando un órgano está sano su frecuencia vibratoria está en armonía con el resto del cuerpo.Si esta frecuencia se ve alterada\, se rompe esta armonía y experimentamos malestar\, dolor\, enfermedad.Este método permite devolver estas frecuencias a su estado de bienestar natural. \nHablaremos también sobre: \n\nOrigen y Filosofía del sistema Shindo \nAplicaciones prácticas\nPresentación del próximo curso \ny habrá tiempo para preguntas y respuestas\n\n\nEste evento será impartido por José Antonio Manchado\, autor de los libros:«Sea más feliz que el Dalai Lama» y «¿Estás enfermo? ¡Enhorabuena! Descubre la oportunidad en la enfermedad«. \n*Entrada gratuita*No hace falta inscripción para la presentación.*Rogamos puntualidad*Agradecemos sí lo compartes con amigos que pudieran estar interesados . \n  \nGracias¡Abrazos Sonoros!
URL:https://mundoarmonia.es/evento/presentacion-rigpa-energetic-healing-shindo-por-jose-antonio-manchado/
LOCATION:Sercotel Parque Las Palmas\, C. Mlle. Las Palmas\, 2\, Las Palmas de Gran Canaria\, Las Palmas\, 35003\, España
CATEGORIES:GRAN CANARIA,TALLERES
ATTACH;FMTTYPE=image/jpeg:https://mundoarmonia.es/wp-content/uploads/2023/10/D527EACC-51C4-42F3-A607-B405BD866701.jpeg
ORGANIZER;CN="Mundo Armon%C3%ADa":MAILTO:info@academia-mundoarmonia.com
END:VEVENT
END:VCALENDAR