BEGIN:VCALENDAR
VERSION:2.0
PRODID:-//Mundo Armonía - ECPv6.15.20//NONSGML v1.0//EN
CALSCALE:GREGORIAN
METHOD:PUBLISH
X-ORIGINAL-URL:https://mundoarmonia.es
X-WR-CALDESC:Eventos para Mundo Armonía
REFRESH-INTERVAL;VALUE=DURATION:PT1H
X-Robots-Tag:noindex
X-PUBLISHED-TTL:PT1H
BEGIN:VTIMEZONE
TZID:UTC
BEGIN:STANDARD
TZOFFSETFROM:+0000
TZOFFSETTO:+0000
TZNAME:UTC
DTSTART:20240101T000000
END:STANDARD
END:VTIMEZONE
BEGIN:VEVENT
DTSTART;TZID=UTC:20250801T183000
DTEND;TZID=UTC:20250801T210000
DTSTAMP:20260419T132824
CREATED:20250605T092828Z
LAST-MODIFIED:20250605T092958Z
UID:5368-1754073000-1754082000@mundoarmonia.es
SUMMARY:Liberación de Miedos en Lanzarote
DESCRIPTION:Estimados amigos\, \nMundo Armonía tiene el placer de ofrecerles de nuevo este fantástico taller de:\nLiberación de Miedos en Lanzarote\n\ncon José Antonio Manchado \n¡Libérate de cualquier miedo limitante! \n\nEl miedo es la causa de muchas enfermedades o\, como dice el biólogo Bruce Lipton:\n«La química del miedo crónico es la causa del problema\, si cambias tu visión\, cambias la química y te empodera». \nEn este taller tienes la posibilidad de cambiar tu visión y\, en consecuencia\, la química. \nFecha:               Viernes 01 de Agosto 2025\nHora:                 De 18:30 a 21:00hrs\nDónde:              Calle Perú 47\, 35500\, Arrecife\, Lanzarote\nCambio:            60€ \nJosé Antonio Manchado lleva más de 15 años ayudando a otros a liberar miedos como:\n… hablar en público \n… volar \n… al éxito \n…  al rechazo \n…  a las arañas \n…  a morir \n… a ser tú mismo \n… al abandono \n… etc \nEntra AQUÍ para más información y/o inscribirte.\nEvento impartido por José Antonio Manchado\, autor de los libros: «Sea más feliz que el Dalai Lama» y «¿Estás enfermo? ¡Enhorabuena! Descubre la oportunidad en la enfermedad». \nSiéntate libre en compartir esta información con cualquier persona que consideres que puede beneficiarse de esta oportunidad. \n¡Abrazos Sonoros!\,\nEquipo Mundo Armonía ❤️ \nCreando buenas vibraciones …. ♥ * ¨ * ♪ ♫ • * ¨ * ♥ …. \n*Nos reservamos el derecho de admisión para poder realizar un evento fluido\, consciente y sin innecesarias interrupciones.
URL:https://mundoarmonia.es/evento/liberacion-de-miedos-en-lanzarote/
LOCATION:Mundo Armonía Lanzarote\, Calle Perú\, 47\, Arrecife\, Las Palmas\, 35500\, España
CATEGORIES:LANZAROTE,TALLERES
ATTACH;FMTTYPE=image/jpeg:https://mundoarmonia.es/wp-content/uploads/2020/04/aguila3.jpg
ORGANIZER;CN="Mundo Armon%C3%ADa":MAILTO:info@academia-mundoarmonia.com
END:VEVENT
BEGIN:VEVENT
DTSTART;TZID=UTC:20250802T103000
DTEND;TZID=UTC:20250802T130000
DTSTAMP:20260419T132824
CREATED:20250604T125929Z
LAST-MODIFIED:20250611T174041Z
UID:5357-1754130600-1754139600@mundoarmonia.es
SUMMARY:Taller Vivir con Alegría- un recordatorio.
DESCRIPTION:Estimados amigos\, \n\nMundo Armonía tiene el placer de ofrecerles un nuevo taller en Lanzarote:\n«Vivir con Alegría»\n¡Un recordatorio de 2 horas y media lleno de meditaciones y practicas para volver a la alegría y sentir la Dicha!\nImpartido por Heidi van Herpen.\n\nEste encuentro está diseñado para recordar que la alegría es una herramienta poderosa de sanación.\nLa alegría no gasta energía: ¡te la da! \n«Volvamos a lo esencial. Volvamos a la alegría.» \nCuándo y dónde\nFecha:     Sábado 02 de agosto 2025\nHora:       de 10:30hrs a 13:00hrs\nDónde:    Calle Perú 47\, 35500\, Arrecife\, Lanzarote.\nAportación:  45€ \nSí\, me inscribo \nTenemos una habilidad innata que es la medicina más poderosa\, se llama: REIR. \nLos bebés y los niños pueden reír sin motivo\, pero a través del condicionamiento social y la educación\, perdemos este hábito.\nLos músculos de la risa se retraen y nos convertimos en adultos serios\, añadimos estrés\, emociones y pensamientos y como resultado vuelve irregular y superficial nuestra respiración; aquí es donde la energía vital se altera. \n¿Te has dado cuenta de que a veces practicamos meditación sin Alegría?\nComo si fuera una obligación en vez de disfrutar el regalo. \nSin alegría no puedes alcanzar la Paz. \nComo cita José Antonio Manchado a menudo: `Sólo los niños entran en el Reino de los Cielos.´ \nEste evento es para:\n– todos que no han reído a carcajadas durante un tiempo\n– los que no saben reír sin ninguna razón\n– los que confunden la espiritualidad con seriedad\n– los que se exigen demasiado mental-físico y/o emocionalmente\n– los que se bombardean con preguntas `espirituales´ que sólo llevan a hundirse o incluso `tirar la toalla´ en su regreso a la Paz\n– los que han perdido el entusiasmo de vivir\n– todos los que quieren conectar o estar con su niño interior \n«¡Seamos responsables de nuestra Felicidad!» \nQué vamos a hacer\n– Vamos a reconectar con la dicha.\n– A soltar y cambiar hábitos a través de la experiencia corporal.\n– A entrenar nuestro cuerpo y nuestra mente para reír.\n– A elegir cuándo quieres reír.- Comprometerte contigo mismo\, para estar en paz a pesar de los retos que surgen en la vida.\n– Estar en el presente (cuando el cuerpo se acostumbra a la risa\, la mente se rinde).\n– Aprenderás como activar la risa voluntariamente.\n– Perdonar-perdonarte y agradecer. \n´»El cerebro desarrollará nuevas conexiones neuronales que producen la química de la alegría en el cuerpo\, para que pida mas.» \n¿Cómo?\nA través de practicas:\n– sencillas y muy eficientes para llevar a casa y así poder aplicarlas todos los días\n– de respiración para aumentar la energía vital\n– de meditaciones\n– practicas para ahorrar energía vital\nPrácticas y meditaciones que te devolverán la alegría de meditar y de vivir. \n________________________________________________________________________________\nReseñas de los participantes en Gran Canaria:\nTerminé el taller muy relajada\, totalmente en paz y en absoluto SILENCIO.\nPero lo mejor es que ahora cuando quiero volver al Silencio sólo tengo que recordar ese momento para volver ahí.\n– Cristina \nPude liberar emociones que había bloqueado y me costaba soltar. Había olvidado lo importante y sanador que es reírse de una misma. Compartir risas es fantástico y quiero mantener esa sensación a diario en mi vida. \n– Pau\n________________________________________________________________________________\n¿Quién lo imparte?\nHeidi van Herpen es alumna y asistente de Jose Antonio Manchado desde el año 2013 pero también es payasa de escenario y hospital (Escuela Internacional de Payasos Erik de Bont) profesora de teatro y actriz (TEA Lanzarote) y de Yoga de la Risa.\nDesde hace unos 10 años es Terapeuta Consciente\, aplica lo aprendido\, sigue des-aprendiendo y ayuda a otros volver a la coherencia a través de practicas de Dharma Shamanic System®\, Rigpa Energetic Healing y Tibetan Holograms Organic Flow®.\nLa experiencia que ha adquirido dando clases\, en los escenarios y como terapeuta es la que va a compartir contigo.\nSu sentido de humor te ayudará a abrirte a soltar y sanar. \n¿Preparados para devolver la sonrisa a tu vida? \n´´»Te espero para compartir una experiencia alegre\, donde sanar y reír van de la mano.»\n– Heidi
URL:https://mundoarmonia.es/evento/vivir-con-alegria/
LOCATION:Mundo Armonía Lanzarote\, Calle Perú\, 47\, Arrecife\, Las Palmas\, 35500\, España
CATEGORIES:LANZAROTE,TALLERES
ATTACH;FMTTYPE=image/jpeg:https://mundoarmonia.es/wp-content/uploads/2018/11/buddha.jpg
ORGANIZER;CN="Mundo Armon%C3%ADa":MAILTO:info@academia-mundoarmonia.com
END:VEVENT
END:VCALENDAR