BEGIN:VCALENDAR
VERSION:2.0
PRODID:-//Mundo Armonía - ECPv6.15.20//NONSGML v1.0//EN
CALSCALE:GREGORIAN
METHOD:PUBLISH
X-ORIGINAL-URL:https://mundoarmonia.es
X-WR-CALDESC:Eventos para Mundo Armonía
REFRESH-INTERVAL;VALUE=DURATION:PT1H
X-Robots-Tag:noindex
X-PUBLISHED-TTL:PT1H
BEGIN:VTIMEZONE
TZID:UTC
BEGIN:STANDARD
TZOFFSETFROM:+0000
TZOFFSETTO:+0000
TZNAME:UTC
DTSTART:20220101T000000
END:STANDARD
END:VTIMEZONE
BEGIN:VEVENT
DTSTART;TZID=UTC:20231102T190000
DTEND;TZID=UTC:20231102T211500
DTSTAMP:20260420T221752
CREATED:20231013T115722Z
LAST-MODIFIED:20231013T115722Z
UID:4527-1698951600-1698959700@mundoarmonia.es
SUMMARY:Una tarde de Meditación con Jose Antonio Manchado
DESCRIPTION:Estimados Amigos\, \nDesde Mundo Armonía tenemos la alegría de presentarles : \nUna tarde de Meditación con Jose Antonio Manchado\nen Gran Canaria.\n“La meditación es la manera de volver a nosotros mismos\, el lugar donde poder experimentar y saborear nuestro Ser completo\, más allá de todos los patrones habituales. En la calma y el silencio de la meditación\, vislumbramos y regresamos a esa profunda naturaleza interior a la que hace tanto tiempo perdimos de vista con tantas ocupaciones y distracciones de nuestras mentes. “ \nFecha:  Jueves día 2 de noviembre \nHora:   Desde las 19hrs a 21:15 (aprox.) \nLugar: Telde\, Gran Canaria (una vez inscrito se confirma lugar exacto ) \nAportación: 50€ \n¿Qué puedo esperar en este evento?\nUna tarde con José Antonio Manchado llena:\n– de aprendizaje y auto descubrimiento.\n– de meditaciones y potentes claves.\n– con prácticas para explorar el espacio infinito del campo energético del corazón.\ny también para reencontrarnos con la paz interior y la claridad mental. \n\n¿Cómo me puedo apuntar?\nINSCRÍBETE AQUÍ. \nEste taller es para todos\, incluso si nunca antes has practicado la meditación.\nDesde un punto de vista desenfadado y ejemplos claros y fáciles\, José te guiará de regreso a tu maestro interior\, tu Ser interior. \nDespués de este taller :\n– regresas a casa con herramientas poderosas para vivir tu vida en libertad.\n– Reconoces cada vez que te encuentres atrapado en tus pensamientos e historias\, y luego\, cómo disociarte de ellos nuevamente y reconectarte con la Paz que traspasa todo entendimiento.\n– tendrás meditaciones y herramientas realmente funcionales y efectivas para estar en calma\, tener claridad mental\, vivir sin miedos de forma consciente y plena. \n¿Puedo llegar más tarde? \nSe ruega máxima puntualidad\, si no llegas puntual no podemos dejarte entrar para no molestar a los participantes en plena meditación o explicación. \ny ………\nA lo mejor te interesa:\nNuestra nueva Página de resumen.\nEntra AQUI para poder encontrar de forma sencilla y directa todos los cursos y eventos disponibles para ayudarte a vivir de forma Libre\, Consciente y en la Paz de tu corazón. \nPD ¿Ya estas conectado a Telegram?\n¡Acompaña nos en «Mundo Armonia Enseñanzas Conscientes» para obtener contenido más fresco\, consciente y estimulante! \nGracias\n¡Abrazos sonoros!\nMundo Armonia – Creando buenas vibraciones …. ♥*¨*♪♫••♪♫*¨*♥ \nNos reservamos el derecho de admisión para poder realizar un evento fluido\, consciente y sin innecesarias interrupciones.
URL:https://mundoarmonia.es/evento/una-tarde-de-meditacion-con-jose-antonio-manchado/
LOCATION:Aavv Bentejui\, Calle José López Suárez 84\, Telde\, Las Palmas\, España
CATEGORIES:GRAN CANARIA,MEDITACIONES
ATTACH;FMTTYPE=image/jpeg:https://mundoarmonia.es/wp-content/uploads/2023/10/D527EACC-51C4-42F3-A607-B405BD866701.jpeg
ORGANIZER;CN="Mundo Armon%C3%ADa":MAILTO:info@academia-mundoarmonia.com
END:VEVENT
END:VCALENDAR