BEGIN:VCALENDAR
VERSION:2.0
PRODID:-//Mundo Armonía - ECPv6.15.20//NONSGML v1.0//EN
CALSCALE:GREGORIAN
METHOD:PUBLISH
X-ORIGINAL-URL:https://mundoarmonia.es
X-WR-CALDESC:Eventos para Mundo Armonía
REFRESH-INTERVAL;VALUE=DURATION:PT1H
X-Robots-Tag:noindex
X-PUBLISHED-TTL:PT1H
BEGIN:VTIMEZONE
TZID:UTC
BEGIN:STANDARD
TZOFFSETFROM:+0000
TZOFFSETTO:+0000
TZNAME:UTC
DTSTART:20250101T000000
END:STANDARD
END:VTIMEZONE
BEGIN:VEVENT
DTSTART;TZID=UTC:20260118T113000
DTEND;TZID=UTC:20260118T133000
DTSTAMP:20260419T125218
CREATED:20260107T153923Z
LAST-MODIFIED:20260107T155432Z
UID:5478-1768735800-1768743000@mundoarmonia.es
SUMMARY:En Lanzarote: Encuentro Solidario de Sanación Energética Tibetana.
DESCRIPTION:Estimados Amigos\, \nLos alumnos de Jose Antonio Manchado queremos invitarte a nuestro evento gratuito: \n\nEncuentro Solidario de Sanación Energética Tibetana en Lanzarote.\n¿Cuándo y dónde?\nFecha :    Domingo 18 de Enero 2026\nHorario:  De 11.30 hrs. a 13.30 hrs\nLugar :    Calle Perú 47- Arrecife- Lanzarote. (Centro de Mundo Armonía)\nEmpezaremos con unas meditaciones para soltar el día a día y entrar en un estado de Paz.\n\n\nEvento Gratuito y Sin inscripción \nEncuentro Solidario de Sanación Energética Tibetana.\nSomos alumnos de Jose Antonio Manchado formados por él en los sistemas energéticos de Sanación como Rigpa Energetic Healing\, Dharma Shamanic System y Tibetan Holograms Organic Flow.\nMuchos de nosotros llevamos años practicando\, dando sesiones y sanando a través de estas enseñanzas.En estos momentos hay muchas personas viviendo en el miedo\, ansiedad y como consecuencia sufriendo retos físicos.\nTe invitamos a vivir una experiencia de sesión energética gratuita para sanar o aliviar molestias físicas\, mentales y emocionales o simplemente para probar. \nTodo el mundo es bienvenido. \nLa puerta se abre 15 minutos antes y ofreceremos sesiones durante aproximadamente 2 horas\, según la cantidad de visitantes. \nAgradecemos si compartes este email con amigos que pudieran estar interesados. \n\n\n¿Quieres saber más sobre los eventos de Mundo Armonía? \nEntra \nAQUÍ –nuestra página en donde encuentras todos los eventos/cursos tanto en vivo\, online y en diferido.\nAQUÍ  para Seguirnos en Telegram en Mundo Armonía Enseñanzas Conscientes donde José Antonio comparte contenido que no publica en ningún otro lugar.\nó estate conectado y comparte \nAQUÍ  en Whatsapp -Grupo de alumnos y colaboradores de Mundo Armonía
URL:https://mundoarmonia.es/evento/encuentro-solidario-lanzarote-enero/
LOCATION:Mundo Armonía Lanzarote\, Calle Perú\, 47\, Arrecife\, Las Palmas\, 35500\, España
CATEGORIES:LANZAROTE
ATTACH;FMTTYPE=image/jpeg:https://mundoarmonia.es/wp-content/uploads/2025/10/41251075-4ff7-4294-a170-7d140825180b-scaled.jpg
ORGANIZER;CN="Mundo Armon%C3%ADa":MAILTO:info@academia-mundoarmonia.com
END:VEVENT
END:VCALENDAR