BEGIN:VCALENDAR
VERSION:2.0
PRODID:-//Mundo Armonía - ECPv6.15.20//NONSGML v1.0//EN
CALSCALE:GREGORIAN
METHOD:PUBLISH
X-WR-CALNAME:Mundo Armonía
X-ORIGINAL-URL:https://mundoarmonia.es
X-WR-CALDESC:Eventos para Mundo Armonía
REFRESH-INTERVAL;VALUE=DURATION:PT1H
X-Robots-Tag:noindex
X-PUBLISHED-TTL:PT1H
BEGIN:VTIMEZONE
TZID:UTC
BEGIN:STANDARD
TZOFFSETFROM:+0000
TZOFFSETTO:+0000
TZNAME:UTC
DTSTART:20230101T000000
END:STANDARD
END:VTIMEZONE
BEGIN:VEVENT
DTSTART;TZID=UTC:20240330T183000
DTEND;TZID=UTC:20240330T200000
DTSTAMP:20260420T194508
CREATED:20240114T152328Z
LAST-MODIFIED:20240319T184424Z
UID:4567-1711823400-1711828800@mundoarmonia.es
SUMMARY:Sábado de Reiki Solidario en Lanzarote
DESCRIPTION:Hola Amigos\, \nCon mucha alegría anunciamos el proximo encuentro de: \nReiki Solidario en Lanzarote \nEs una invitación a todos los alumnos de Jose Antonio Manchado \nReiki Solidario es un buen momento para practicar y recibir. \nY si no eres alumno pero te gustaría sentir qué es el Reiki o estás en un momento de malestar\, sientete libre y entra eres más que bienvenido. \n¿Cuándo y dónde es?\nFecha:   Sábado 30 de Marzo 2024 \nHorario:  De 18:30hrs. a 20 hrs. \nLugar:    Calle Perú 47\, Arrecife\, Lanzarote \n  \n¿Tienes molestias físicas\, mentales\, emocionales? Entonces prueba nuestro Reiki solidario.\nNo se necesita inscripción previa.\nReiki solidario es un evento totalmente gratuito. \n  \n¿Qué es Reiki Solidario?\nReiki solidario es un encuentro de alumnos de Jose Antonio Manchado donde practican Reiki con personas que lo deseen\, ya sea porque tienen molestias o porque simplemente quieren probar. Estaremos 1\,5 horas aprox. dependiendo de la cantidad de personas que vienen a visitarnos. \nY si tienes amigos\, familiares\, vecinos que desean probar…. Todo el mundo es bienvenido\, la puerta estará abierta\, pueden entrar y salir cuando desean siempre respetando el silencio para que tanto las Reikistas como los que reciben pueden disfrutar la experiencia a 100%… \n  \nAgradecemos si lo compartes con amigos que pudieran estar interesados. \n¡Gracias! \n¡Abrazos sonoros! \n  \nPD ¿Ya estas conectado a Telegram? \n¡Acompaña nos en «Mundo Armonia Enseñanzas Conscientes» para obtener más contenido consciente \n  \nNuestra  Página de resumen de todos los eventos\, entra AQUI \nAsí podrás encontrar de forma sencilla y directa todos los cursos y eventos disponibles para ayudarte a vivir de forma Libre\, Consciente y en la Paz de tu corazón.\nMundo Armonia – Creando buenas Vibraciones.. ♥ •*¨*♪♫*¨*• ♥ \n*Nos reservamos el derecho de admisión para poder realizar un evento fluido\, consciente y sin innecesarias interrupciones.
URL:https://mundoarmonia.es/evento/reiki-solidario-en-lanzarote-7/
LOCATION:Mundo Armonía Lanzarote\, Calle Perú\, 47\, Arrecife\, Las Palmas\, 35500\, España
CATEGORIES:LANZAROTE,REIKI
ATTACH;FMTTYPE=image/jpeg:https://mundoarmonia.es/wp-content/uploads/2017/12/reiki-solidario.jpg
ORGANIZER;CN="Mundo Armon%C3%ADa":MAILTO:info@academia-mundoarmonia.com
END:VEVENT
END:VCALENDAR